BEGIN:VCALENDAR
VERSION:2.0
PRODID:-//Connection Home - ECPv4.2.4//NONSGML v1.0//EN
CALSCALE:GREGORIAN
METHOD:PUBLISH
X-WR-CALNAME:Connection Home
X-ORIGINAL-URL:http://www.connectionsinthehome.co.nz
X-WR-CALDESC:Events for Connection Home
BEGIN:VEVENT
DTSTART;TZID=Pacific/Auckland:20140330T110000
DTEND;TZID=Pacific/Auckland:20140330T140000
DTSTAMP:20180125T145330
CREATED:20140316T142717
LAST-MODIFIED:20140317T121224
UID:387-1396177200-1396188000@www.connectionsinthehome.co.nz
SUMMARY:Burswood Community Neighbours Day
DESCRIPTION:Join us on 'Neighbours Day Aotearoa'  as we mingle in Burswood!  We'll be there with our castle and bubble machine...and there will be Facepainting and other fun things to do!\n\n11am till 2pm Sunday 30th March - Burswood Park\, Burswood Drive\n\nAll welcome.\n\nSee the flyer for further details.\n\nBurswood Neighbours Day\n\n 
URL:http://www.connectionsinthehome.co.nz/event/burswood-community-neighbours-day/
LOCATION:Burswood Drive\, East Tamaki
CATEGORIES:Home Connection Events
END:VEVENT
END:VCALENDAR