BEGIN:VCALENDAR
VERSION:2.0
PRODID:-//Connection Home - ECPv4.2.4//NONSGML v1.0//EN
CALSCALE:GREGORIAN
METHOD:PUBLISH
X-WR-CALNAME:Connection Home
X-ORIGINAL-URL:http://www.connectionsinthehome.co.nz
X-WR-CALDESC:Events for Connection Home
BEGIN:VEVENT
DTSTART;TZID=Pacific/Auckland:20140314T100000
DTEND;TZID=Pacific/Auckland:20140314T113000
DTSTAMP:20180125T145218
CREATED:20140306T144820
LAST-MODIFIED:20140317T121237
UID:294-1394791200-1394796600@www.connectionsinthehome.co.nz
SUMMARY:Birthday Bounce!
DESCRIPTION:Join us for a Bounce to celebrate our birthday!\n\nFirst Birthday\n\n
URL:http://www.connectionsinthehome.co.nz/event/birthday-bounce/
LOCATION:East Tamaki
CATEGORIES:Home Connection Events
END:VEVENT
END:VCALENDAR