BEGIN:VCALENDAR
VERSION:2.0
PRODID:-//Connection Home - ECPv4.2.4//NONSGML v1.0//EN
CALSCALE:GREGORIAN
METHOD:PUBLISH
X-WR-CALNAME:Connection Home
X-ORIGINAL-URL:http://www.connectionsinthehome.co.nz
X-WR-CALDESC:Events for Connection Home
BEGIN:VEVENT
DTSTART;TZID=Pacific/Auckland:20140430T093000
DTEND;TZID=Pacific/Auckland:20140430T110000
DTSTAMP:20180125T145139
CREATED:20140316T145346
LAST-MODIFIED:20140317T121128
UID:406-1398850200-1398855600@www.connectionsinthehome.co.nz
SUMMARY:Botanical Gardens - School Holiday outing
DESCRIPTION:Bring along the children\, older and younger\, and lets wander and wonder at the gorgeous botanical gardens.\n\n
URL:http://www.connectionsinthehome.co.nz/event/botanical-gardens-school-holiday-outing/
CATEGORIES:Home Connection Events
END:VEVENT
END:VCALENDAR